{
 "currentVersion": 11.1,
 "serviceDescription": "Derived/AspenLAS_2020",
 "name": "Derived/AspenLAS_2020",
 "description": "",
 "extent": {
  "xmin": 2613561.9997138083,
  "ymin": 1491287.00016281,
  "xmax": 2631971.9997138083,
  "ymax": 1507363.00016281,
  "spatialReference": {
   "wkt": "PROJCS[\"NAD83(2011) / Colorado Central (ftUS)\",GEOGCS[\"NAD83(2011)\",DATUM[\"D_NAD_1983_2011\",SPHEROID[\"GRS 1980\",6378137.0,298.257222101]],PRIMEM[\"Greenwich\",0.0],UNIT[\"degree\",0.0174532925199433]],PROJECTION[\"Lambert_Conformal_Conic_2SP\"],PARAMETER[\"false_easting\",3000000.0],PARAMETER[\"false_northing\",1000000.0],PARAMETER[\"central_meridian\",-105.5],PARAMETER[\"standard_parallel_1\",38.45],PARAMETER[\"standard_parallel_2\",39.75],PARAMETER[\"latitude_of_origin\",37.83333333333334],UNIT[\"US survey foot\",0.3048006096012192]],VERTCS[\"NAVD88 height - Geoid18 (ftUS)\",VDATUM[\"North American Vertical Datum 1988\"],PARAMETER[\"Vertical_Shift\",0.0],PARAMETER[\"Direction\",1.0],UNIT[\"US survey foot\",0.3048006096012192]]"
  }
 },
 "initialExtent": {
  "xmin": 2613561.9997138083,
  "ymin": 1491287.00016281,
  "xmax": 2631971.9997138083,
  "ymax": 1507363.00016281,
  "spatialReference": {
   "wkt": "PROJCS[\"NAD83(2011) / Colorado Central (ftUS)\",GEOGCS[\"NAD83(2011)\",DATUM[\"D_NAD_1983_2011\",SPHEROID[\"GRS 1980\",6378137.0,298.257222101]],PRIMEM[\"Greenwich\",0.0],UNIT[\"degree\",0.0174532925199433]],PROJECTION[\"Lambert_Conformal_Conic_2SP\"],PARAMETER[\"false_easting\",3000000.0],PARAMETER[\"false_northing\",1000000.0],PARAMETER[\"central_meridian\",-105.5],PARAMETER[\"standard_parallel_1\",38.45],PARAMETER[\"standard_parallel_2\",39.75],PARAMETER[\"latitude_of_origin\",37.83333333333334],UNIT[\"US survey foot\",0.3048006096012192]],VERTCS[\"NAVD88 height - Geoid18 (ftUS)\",VDATUM[\"North American Vertical Datum 1988\"],PARAMETER[\"Vertical_Shift\",0.0],PARAMETER[\"Direction\",1.0],UNIT[\"US survey foot\",0.3048006096012192]]"
  }
 },
 "fullExtent": {
  "xmin": 2613561.9997138083,
  "ymin": 1491287.00016281,
  "xmax": 2631971.9997138083,
  "ymax": 1507363.00016281,
  "spatialReference": {
   "wkt": "PROJCS[\"NAD83(2011) / Colorado Central (ftUS)\",GEOGCS[\"NAD83(2011)\",DATUM[\"D_NAD_1983_2011\",SPHEROID[\"GRS 1980\",6378137.0,298.257222101]],PRIMEM[\"Greenwich\",0.0],UNIT[\"degree\",0.0174532925199433]],PROJECTION[\"Lambert_Conformal_Conic_2SP\"],PARAMETER[\"false_easting\",3000000.0],PARAMETER[\"false_northing\",1000000.0],PARAMETER[\"central_meridian\",-105.5],PARAMETER[\"standard_parallel_1\",38.45],PARAMETER[\"standard_parallel_2\",39.75],PARAMETER[\"latitude_of_origin\",37.83333333333334],UNIT[\"US survey foot\",0.3048006096012192]],VERTCS[\"NAVD88 height - Geoid18 (ftUS)\",VDATUM[\"North American Vertical Datum 1988\"],PARAMETER[\"Vertical_Shift\",0.0],PARAMETER[\"Direction\",1.0],UNIT[\"US survey foot\",0.3048006096012192]]"
  }
 },
 "sortableFields": "MinPS,MaxPS,LowPS,HighPS,CenterX,CenterY,ZOrder,Shape.STArea(),Shape.STLength(),PointCount,PointSpacing,ZMin,ZMax",
 "heightModelInfo": {
  "heightModel": "gravity_related_height",
  "vertCRS": "NAVD88 height - Geoid18 (ftUS)",
  "heightUnit": "us-foot"
 },
 "bandCount": 1,
 "pixelType": "F32",
 "minValues": [],
 "maxValues": [],
 "meanValues": [],
 "stdvValues": [],
 "hasMultidimensions": false,
 "pixelSizeX": 1,
 "pixelSizeY": 1,
 "datasetFormat": "AMD",
 "uncompressedSize": 1183836640,
 "blockWidth": 2048,
 "blockHeight": 256,
 "compressionType": "None",
 "bandNames": [
  "Band_1"
 ],
 "allowCopy": true,
 "allowAnalysis": true,
 "itemAccess": false,
 "minPixelSize": 0,
 "maxPixelSize": 0,
 "copyrightText": "",
 "serviceDataType": "esriImageServiceDataTypeElevation",
 "serviceSourceType": "esriImageServiceSourceTypeMosaicDataset",
 "objectIdField": "OBJECTID",
 "fields": [
  {
   "name": "OBJECTID",
   "type": "esriFieldTypeOID",
   "alias": "OBJECTID",
   "domain": null
  },
  {
   "name": "Name",
   "type": "esriFieldTypeString",
   "alias": "Name",
   "domain": null,
   "length": 200
  },
  {
   "name": "MinPS",
   "type": "esriFieldTypeDouble",
   "alias": "MinPS",
   "domain": null
  },
  {
   "name": "MaxPS",
   "type": "esriFieldTypeDouble",
   "alias": "MaxPS",
   "domain": null
  },
  {
   "name": "LowPS",
   "type": "esriFieldTypeDouble",
   "alias": "LowPS",
   "domain": null
  },
  {
   "name": "HighPS",
   "type": "esriFieldTypeDouble",
   "alias": "HighPS",
   "domain": null
  },
  {
   "name": "Category",
   "type": "esriFieldTypeInteger",
   "alias": "Category",
   "domain": {
    "type": "codedValue",
    "name": "MosaicCatalogItemCategoryDomain",
    "description": "Catalog item categories.",
    "codedValues": [
     {
      "name": "Unknown",
      "code": 0
     },
     {
      "name": "Primary",
      "code": 1
     },
     {
      "name": "Overview",
      "code": 2
     },
     {
      "name": "Unprocessed Overview",
      "code": 3
     },
     {
      "name": "Partial Overview",
      "code": 4
     },
     {
      "name": "Uploaded",
      "code": 253
     },
     {
      "name": "Incomplete",
      "code": 254
     },
     {
      "name": "Custom",
      "code": 255
     }
    ],
    "mergePolicy": "esriMPTDefaultValue",
    "splitPolicy": "esriSPTDefaultValue"
   }
  },
  {
   "name": "Tag",
   "type": "esriFieldTypeString",
   "alias": "Tag",
   "domain": null,
   "length": 100
  },
  {
   "name": "GroupName",
   "type": "esriFieldTypeString",
   "alias": "GroupName",
   "domain": null,
   "length": 100
  },
  {
   "name": "ProductName",
   "type": "esriFieldTypeString",
   "alias": "ProductName",
   "domain": null,
   "length": 100
  },
  {
   "name": "CenterX",
   "type": "esriFieldTypeDouble",
   "alias": "CenterX",
   "domain": null
  },
  {
   "name": "CenterY",
   "type": "esriFieldTypeDouble",
   "alias": "CenterY",
   "domain": null
  },
  {
   "name": "ZOrder",
   "type": "esriFieldTypeInteger",
   "alias": "ZOrder",
   "domain": null
  },
  {
   "name": "Shape",
   "type": "esriFieldTypeGeometry",
   "alias": "Shape",
   "domain": null
  },
  {
   "name": "Version",
   "type": "esriFieldTypeString",
   "alias": "Version",
   "domain": null,
   "length": 20
  },
  {
   "name": "PointCount",
   "type": "esriFieldTypeDouble",
   "alias": "Point Count",
   "domain": null
  },
  {
   "name": "PointSpacing",
   "type": "esriFieldTypeDouble",
   "alias": "Point Spacing",
   "domain": null
  },
  {
   "name": "ZMin",
   "type": "esriFieldTypeDouble",
   "alias": "ZMin",
   "domain": null
  },
  {
   "name": "ZMax",
   "type": "esriFieldTypeDouble",
   "alias": "ZMax",
   "domain": null
  },
  {
   "name": "Shape.STArea()",
   "type": "esriFieldTypeDouble",
   "alias": "Shape.STArea()",
   "domain": null
  },
  {
   "name": "Shape.STLength()",
   "type": "esriFieldTypeDouble",
   "alias": "Shape.STLength()",
   "domain": null
  }
 ],
 "capabilities": "Catalog,Mensuration,Pixels,Download,Image,Metadata",
 "defaultMosaicMethod": "Northwest",
 "allowedMosaicMethods": "NorthWest,Center,LockRaster,ByAttribute,Nadir,Viewpoint,Seamline,None",
 "sortField": "",
 "sortValue": null,
 "sortAscending": true,
 "mosaicOperator": "First",
 "maxDownloadSizeLimit": 2048,
 "defaultCompressionQuality": 75,
 "defaultResamplingMethod": "Bilinear",
 "maxImageHeight": 4100,
 "maxImageWidth": 15000,
 "maxRecordCount": 1000,
 "maxDownloadImageCount": 20,
 "maxMosaicImageCount": 20,
 "allowRasterFunction": true,
 "rasterFunctionInfos": [
  {
   "name": "None",
   "description": "",
   "help": ""
  }
 ],
 "rasterTypeInfos": [
  {
   "name": "Raster Dataset",
   "description": "Supports all ArcGIS Raster Datasets",
   "help": ""
  }
 ],
 "mensurationCapabilities": "Basic",
 "hasHistograms": false,
 "hasColormap": false,
 "hasRasterAttributeTable": false,
 "minScale": 0,
 "maxScale": 0,
 "exportTilesAllowed": false,
 "supportsStatistics": true,
 "supportsAdvancedQueries": true,
 "editFieldsInfo": null,
 "ownershipBasedAccessControlForRasters": null,
 "allowComputeTiePoints": false,
 "useStandardizedQueries": true,
 "advancedQueryCapabilities": {
  "useStandardizedQueries": true,
  "supportsStatistics": true,
  "supportsOrderBy": true,
  "supportsDistinct": true,
  "supportsPagination": true
 },
 "spatialReference": {
  "wkt": "PROJCS[\"NAD83(2011) / Colorado Central (ftUS)\",GEOGCS[\"NAD83(2011)\",DATUM[\"D_NAD_1983_2011\",SPHEROID[\"GRS 1980\",6378137.0,298.257222101]],PRIMEM[\"Greenwich\",0.0],UNIT[\"degree\",0.0174532925199433]],PROJECTION[\"Lambert_Conformal_Conic_2SP\"],PARAMETER[\"false_easting\",3000000.0],PARAMETER[\"false_northing\",1000000.0],PARAMETER[\"central_meridian\",-105.5],PARAMETER[\"standard_parallel_1\",38.45],PARAMETER[\"standard_parallel_2\",39.75],PARAMETER[\"latitude_of_origin\",37.83333333333334],UNIT[\"US survey foot\",0.3048006096012192]],VERTCS[\"NAVD88 height - Geoid18 (ftUS)\",VDATUM[\"North American Vertical Datum 1988\"],PARAMETER[\"Vertical_Shift\",0.0],PARAMETER[\"Direction\",1.0],UNIT[\"US survey foot\",0.3048006096012192]]"
 }
}
