View In:
ArcGIS JavaScript
ArcGIS Online Map Viewer
ArcGIS Earth
Service Description: Images/AspenArea_1980_4200
Name: Images/AspenArea_1980_4200
Description:
Single Fused Map Cache: false
Extent:
XMin: 2604133.7232948095
YMin: 1485511.8626933265
XMax: 2638660.5076227435
YMax: 1518250.1575223058
Spatial Reference: 103013
(6428)
Initial Extent:
XMin: 2604133.7232948095
YMin: 1485511.8626933265
XMax: 2638660.5076227435
YMax: 1518250.1575223058
Spatial Reference: 103013
(6428)
Full Extent:
XMin: 2604133.7232948095
YMin: 1485511.8626933265
XMax: 2638660.5076227435
YMax: 1518250.1575223058
Spatial Reference: 103013
(6428)
Pixel Size X: 0.544938908883253
Pixel Size Y: 0.5449389088832548
Band Count: 1
Pixel Type: U8
RasterFunction Infos: {"rasterFunctionInfos": [{
"name": "None",
"description": "A No-Op Function.",
"help": ""
}]}
Mensuration Capabilities: Basic
Has Histograms: true
Has Colormap: false
Has Multi Dimensions : false
Rendering Rule:
Min Scale: 0
Max Scale: 0
Copyright Text:
Service Data Type: esriImageServiceDataTypeGeneric
Min Values: 23
Max Values: 254
Mean Values: 124.4051762918821
Standard Deviation Values: 52.50851960513381
Object ID Field: OBJECTID
Fields:
-
OBJECTID
(
type: esriFieldTypeOID, alias: OBJECTID
)
-
Name
(
type: esriFieldTypeString, alias: Name, length: 200
)
-
MinPS
(
type: esriFieldTypeDouble, alias: MinPS
)
-
MaxPS
(
type: esriFieldTypeDouble, alias: MaxPS
)
-
LowPS
(
type: esriFieldTypeDouble, alias: LowPS
)
-
HighPS
(
type: esriFieldTypeDouble, alias: HighPS
)
-
Category
(
type: esriFieldTypeInteger, alias: Category
, Coded Values:
[0: Unknown]
, [1: Primary]
, [2: Overview]
, ...5 more...
)
-
Tag
(
type: esriFieldTypeString, alias: Tag, length: 100
)
-
GroupName
(
type: esriFieldTypeString, alias: GroupName, length: 100
)
-
ProductName
(
type: esriFieldTypeString, alias: ProductName, length: 100
)
-
CenterX
(
type: esriFieldTypeDouble, alias: CenterX
)
-
CenterY
(
type: esriFieldTypeDouble, alias: CenterY
)
-
ZOrder
(
type: esriFieldTypeInteger, alias: ZOrder
)
-
Best
(
type: esriFieldTypeDouble, alias: Best
)
-
Year
(
type: esriFieldTypeInteger, alias: Year
)
-
Metadata_URL
(
type: esriFieldTypeString, alias: Metadata_URL, length: 128
)
-
RectificationType
(
type: esriFieldTypeString, alias: RectificationType, length: 32
)
-
Dataset_ID
(
type: esriFieldTypeString, alias: Dataset_ID, length: 50
)
-
Shape
(
type: esriFieldTypeGeometry, alias: Shape
)
-
Source
(
type: esriFieldTypeString, alias: Source, length: 300
)
Default Mosaic Method: Nadir
Allowed Mosaic Methods: Nadir,None,Center,ByAttribute,NorthWest,LockRaster,Viewpoint,Seamline
SortField:
SortValue: null
Mosaic Operator: Blend
Default Compression Quality: 90
Default Resampling Method: Bilinear
Max Record Count: 1000
Max Image Height: 4100
Max Image Width: 15000
Max Download Image Count: 30
Max Mosaic Image Count: 30
Allow Raster Function: true
Allow Copy: true
Allow Analysis: true
Allow Compute TiePoints: false
Supports Statistics: true
Supports Advanced Queries: true
Use StandardizedQueries: true
Raster Type Infos:
Name: Raster Dataset
Description: Supports all ArcGIS Raster Datasets
Help:
Has Raster Attribute Table: false
Edit Fields Info: null
Ownership Based AccessControl For Rasters: null
Child Resources:
Info
Histograms
Statistics
Key Properties
Legend
Raster Function Infos
Supported Operations:
Export Image
Query
Identify
Download Rasters
Measure
Compute Histograms
Compute Statistics Histograms
Get Samples
Compute Class Statistics
Query Boundary
Compute Pixel Location
Compute Angles
Validate
Project