View In:
ArcGIS JavaScript
ArcGIS Online Map Viewer
ArcGIS Earth
Service Description: Images/AspenArea_1997
Name: Images/AspenArea_1997
Description:
Single Fused Map Cache: false
Extent:
XMin: 2592672.5
YMin: 1483233.5
XMax: 2634655.5
YMax: 1519219.5
Spatial Reference: 103013
(6428)
Initial Extent:
XMin: 2592672.5
YMin: 1483233.5
XMax: 2634655.5
YMax: 1519219.5
Spatial Reference: 103013
(6428)
Full Extent:
XMin: 2592672.5
YMin: 1483233.5
XMax: 2634655.5
YMax: 1519219.5
Spatial Reference: 103013
(6428)
Pixel Size X: 1.0
Pixel Size Y: 1.0
Band Count: 3
Pixel Type: U8
RasterFunction Infos: {"rasterFunctionInfos": [{
"name": "None",
"description": "A No-Op Function.",
"help": ""
}]}
Mensuration Capabilities: None
Has Histograms: true
Has Colormap: false
Has Multi Dimensions : false
Rendering Rule:
Min Scale: 0
Max Scale: 0
Copyright Text:
Service Data Type: esriImageServiceDataTypeProcessed
Min Values: 0, 30, 8
Max Values: 241, 254, 250
Mean Values: 99.49674784241212, 128.37931122891933, 109.10941764882189
Standard Deviation Values: 35.68308226172191, 29.305767132921556, 27.756956177157715
Object ID Field: OBJECTID
Fields:
-
OBJECTID
(
type: esriFieldTypeOID, alias: OBJECTID
)
-
Name
(
type: esriFieldTypeString, alias: Name, length: 200
)
-
MinPS
(
type: esriFieldTypeDouble, alias: MinPS
)
-
MaxPS
(
type: esriFieldTypeDouble, alias: MaxPS
)
-
LowPS
(
type: esriFieldTypeDouble, alias: LowPS
)
-
HighPS
(
type: esriFieldTypeDouble, alias: HighPS
)
-
Category
(
type: esriFieldTypeInteger, alias: Category
, Coded Values:
[0: Unknown]
, [1: Primary]
, [2: Overview]
, ...5 more...
)
-
Tag
(
type: esriFieldTypeString, alias: Tag, length: 100
)
-
GroupName
(
type: esriFieldTypeString, alias: GroupName, length: 100
)
-
ProductName
(
type: esriFieldTypeString, alias: ProductName, length: 100
)
-
CenterX
(
type: esriFieldTypeDouble, alias: CenterX
)
-
CenterY
(
type: esriFieldTypeDouble, alias: CenterY
)
-
ZOrder
(
type: esriFieldTypeInteger, alias: ZOrder
)
-
TypeID
(
type: esriFieldTypeInteger, alias: Raster Type ID
)
-
Shape
(
type: esriFieldTypeGeometry, alias: Shape
)
-
Dataset_ID
(
type: esriFieldTypeString, alias: Dataset_ID, length: 50
)
-
Best
(
type: esriFieldTypeDouble, alias: Best
)
-
Year
(
type: esriFieldTypeInteger, alias: Year
)
-
Metadata_URL
(
type: esriFieldTypeString, alias: Metadata_URL, length: 250
)
-
Source
(
type: esriFieldTypeString, alias: Source, length: 300
)
Default Mosaic Method: Nadir
Allowed Mosaic Methods: Nadir,Center,NorthWest,Viewpoint,LockRaster,ByAttribute,Seamline,None
SortField:
SortValue: null
Mosaic Operator: Max
Default Compression Quality: 100
Default Resampling Method: Bilinear
Max Record Count: 2000
Max Image Height: 4100
Max Image Width: 15000
Max Download Image Count: 30
Max Mosaic Image Count: 30
Allow Raster Function: true
Allow Copy: true
Allow Analysis: true
Allow Compute TiePoints: false
Supports Statistics: true
Supports Advanced Queries: true
Use StandardizedQueries: true
Raster Type Infos:
Name: Image Service
Description: Supports ArcGIS image service
Help:
Name: Raster Dataset
Description: Supports all ArcGIS Raster Datasets
Help:
Has Raster Attribute Table: false
Edit Fields Info: null
Ownership Based AccessControl For Rasters: null
Child Resources:
Info
Histograms
Statistics
Key Properties
Legend
Raster Function Infos
Supported Operations:
Export Image
Query
Identify
Download Rasters
Compute Histograms
Compute Statistics Histograms
Get Samples
Compute Class Statistics
Query Boundary
Compute Pixel Location
Compute Angles
Validate
Project