View In:
ArcGIS JavaScript
ArcGIS Online Map Viewer
ArcGIS Earth
Service Description: Topo_Historic/AspenTopoStillwaterRanch
Name: Topo_Historic/AspenTopoStillwaterRanch
Description:
Single Fused Map Cache: false
Extent:
XMin: 2627153.981716141
YMin: 1489740.5515798125
XMax: 2631112.302492305
YMax: 1495209.5405458957
Spatial Reference: 103013
(6428)
Initial Extent:
XMin: 2627153.981716141
YMin: 1489740.5515798125
XMax: 2631112.302492305
YMax: 1495209.5405458957
Spatial Reference: 103013
(6428)
Full Extent:
XMin: 2627153.981716141
YMin: 1489740.5515798125
XMax: 2631112.302492305
YMax: 1495209.5405458957
Spatial Reference: 103013
(6428)
Pixel Size X: 0.32466541799245946
Pixel Size Y: 0.32466541799246984
Band Count: 1
Pixel Type: U1
RasterFunction Infos: {"rasterFunctionInfos": [{
"name": "None",
"description": "A No-Op Function.",
"help": ""
}]}
Mensuration Capabilities: None
Has Histograms: true
Has Colormap: false
Has Multi Dimensions : false
Rendering Rule:
Min Scale: 0
Max Scale: 0
Copyright Text:
Service Data Type: esriImageServiceDataTypeProcessed
Min Values: 0
Max Values: 1
Mean Values: 0.934670566244322
Standard Deviation Values: 0.2471068594725443
Object ID Field: OBJECTID
Fields:
-
OBJECTID
(
type: esriFieldTypeOID, alias: OBJECTID
)
-
Shape
(
type: esriFieldTypeGeometry, alias: Shape
)
-
Name
(
type: esriFieldTypeString, alias: Name, length: 200
)
-
MinPS
(
type: esriFieldTypeDouble, alias: MinPS
)
-
MaxPS
(
type: esriFieldTypeDouble, alias: MaxPS
)
-
LowPS
(
type: esriFieldTypeDouble, alias: LowPS
)
-
HighPS
(
type: esriFieldTypeDouble, alias: HighPS
)
-
Category
(
type: esriFieldTypeInteger, alias: Category
, Coded Values:
[0: Unknown]
, [1: Primary]
, [2: Overview]
, ...5 more...
)
-
Tag
(
type: esriFieldTypeString, alias: Tag, length: 100
)
-
GroupName
(
type: esriFieldTypeString, alias: GroupName, length: 100
)
-
ProductName
(
type: esriFieldTypeString, alias: ProductName, length: 100
)
-
CenterX
(
type: esriFieldTypeDouble, alias: CenterX
)
-
CenterY
(
type: esriFieldTypeDouble, alias: CenterY
)
-
ZOrder
(
type: esriFieldTypeInteger, alias: ZOrder
)
-
Best
(
type: esriFieldTypeSingle, alias: Best
)
-
Year
(
type: esriFieldTypeInteger, alias: Year
)
-
Metadata_URL
(
type: esriFieldTypeString, alias: Metadata_URL, length: 128
)
-
RectificationType
(
type: esriFieldTypeString, alias: RectificationType, length: 32
)
-
Dataset_ID
(
type: esriFieldTypeString, alias: Dataset_ID, length: 50
)
-
Shape_Length
(
type: esriFieldTypeDouble, alias: Shape_Length
)
-
Shape_Area
(
type: esriFieldTypeDouble, alias: Shape_Area
)
-
Source
(
type: esriFieldTypeString, alias: Source, length: 300
)
Default Mosaic Method: Nadir
Allowed Mosaic Methods: Nadir,Center,ByAttribute,NorthWest,LockRaster,Viewpoint,Seamline,None
SortField:
SortValue: null
Mosaic Operator: First
Default Compression Quality: 85
Default Resampling Method: Nearest
Max Record Count: 1000
Max Image Height: 4100
Max Image Width: 15000
Max Download Image Count: 20
Max Mosaic Image Count: 20
Allow Raster Function: true
Allow Copy: true
Allow Analysis: true
Allow Compute TiePoints: false
Supports Statistics: true
Supports Advanced Queries: true
Use StandardizedQueries: true
Raster Type Infos:
Name: Raster Dataset
Description: Supports all ArcGIS Raster Datasets
Help:
Has Raster Attribute Table: false
Edit Fields Info: null
Ownership Based AccessControl For Rasters: null
Child Resources:
Info
Histograms
Statistics
Key Properties
Legend
Raster Function Infos
Supported Operations:
Export Image
Query
Identify
Download Rasters
Compute Histograms
Compute Statistics Histograms
Get Samples
Compute Class Statistics
Query Boundary
Compute Pixel Location
Compute Angles
Validate
Project